BEGIN:VCALENDAR
VERSION:2.0
PRODID:-// - ECPv6.15.19//NONSGML v1.0//EN
CALSCALE:GREGORIAN
METHOD:PUBLISH
X-ORIGINAL-URL:https://www.thewaycenter.org
X-WR-CALDESC:Events for 
REFRESH-INTERVAL;VALUE=DURATION:PT1H
X-Robots-Tag:noindex
X-PUBLISHED-TTL:PT1H
BEGIN:VTIMEZONE
TZID:America/Chicago
BEGIN:DAYLIGHT
TZOFFSETFROM:-0600
TZOFFSETTO:-0500
TZNAME:CDT
DTSTART:20240310T080000
END:DAYLIGHT
BEGIN:STANDARD
TZOFFSETFROM:-0500
TZOFFSETTO:-0600
TZNAME:CST
DTSTART:20241103T070000
END:STANDARD
BEGIN:DAYLIGHT
TZOFFSETFROM:-0600
TZOFFSETTO:-0500
TZNAME:CDT
DTSTART:20250309T080000
END:DAYLIGHT
BEGIN:STANDARD
TZOFFSETFROM:-0500
TZOFFSETTO:-0600
TZNAME:CST
DTSTART:20251102T070000
END:STANDARD
BEGIN:DAYLIGHT
TZOFFSETFROM:-0600
TZOFFSETTO:-0500
TZNAME:CDT
DTSTART:20260308T080000
END:DAYLIGHT
BEGIN:STANDARD
TZOFFSETFROM:-0500
TZOFFSETTO:-0600
TZNAME:CST
DTSTART:20261101T070000
END:STANDARD
END:VTIMEZONE
BEGIN:VEVENT
DTSTART;TZID=America/Chicago:20250502T103000
DTEND;TZID=America/Chicago:20250502T130000
DTSTAMP:20260419T151102
CREATED:20241217T191755Z
LAST-MODIFIED:20250312T154949Z
UID:13184-1746181800-1746190800@www.thewaycenter.org
SUMMARY:Jobs for Life
DESCRIPTION:Jobs for Life is a fantastic program\, from a Christ-centered perspective\, that helps you find your dream job\, while also teaching you the value of work as a God-given gift. It’s more than just a job hunt; it’s a whole community\, with mentors cheering you on every step of the way.
URL:https://www.thewaycenter.org/calendar/jobs-for-life-14/
LOCATION:Stillwater Christian Life Center\, 100 McKay Dr\, Haines City\, FL\, 33844\, United States
CATEGORIES:Jobs for Life
ORGANIZER;CN="The WAY Center":MAILTO:waycenter1@gmail.com
END:VEVENT
BEGIN:VEVENT
DTSTART;TZID=America/Chicago:20250509T103000
DTEND;TZID=America/Chicago:20250509T130000
DTSTAMP:20260419T151102
CREATED:20241217T192010Z
LAST-MODIFIED:20250312T155032Z
UID:13188-1746786600-1746795600@www.thewaycenter.org
SUMMARY:Jobs for Life
DESCRIPTION:Jobs for Life is a fantastic program\, from a Christ-centered perspective\, that helps you find your dream job\, while also teaching you the value of work as a God-given gift. It’s more than just a job hunt; it’s a whole community\, with mentors cheering you on every step of the way.
URL:https://www.thewaycenter.org/calendar/jobs-for-life-16/
LOCATION:Stillwater Christian Life Center\, 100 McKay Dr\, Haines City\, FL\, 33844\, United States
CATEGORIES:Jobs for Life
ORGANIZER;CN="The WAY Center":MAILTO:waycenter1@gmail.com
END:VEVENT
BEGIN:VEVENT
DTSTART;TZID=America/Chicago:20250514T183000
DTEND;TZID=America/Chicago:20250514T200000
DTSTAMP:20260419T151102
CREATED:20241217T192502Z
LAST-MODIFIED:20250312T155132Z
UID:13190-1747247400-1747252800@www.thewaycenter.org
SUMMARY:Focus Groups & Jobs for Life Graduation
DESCRIPTION:Help us celebrate with those who are graduating from our Focus Groups and Jobs for Life programs. 
URL:https://www.thewaycenter.org/calendar/focus-groups-jobs-for-life-graduation/
LOCATION:Stillwater Christian Life Center\, 100 McKay Dr\, Haines City\, FL\, 33844\, United States
CATEGORIES:FOCUS Group,Jobs for Life
ORGANIZER;CN="The WAY Center":MAILTO:waycenter1@gmail.com
END:VEVENT
END:VCALENDAR